BEGIN:VCALENDAR
VERSION:2.0
PRODID:-//Remue Méninges - ECPv6.0.13//NONSGML v1.0//EN
CALSCALE:GREGORIAN
METHOD:PUBLISH
X-ORIGINAL-URL:https://remuemeningesaneres.org
X-WR-CALDESC:évènements pour Remue Méninges
REFRESH-INTERVAL;VALUE=DURATION:PT1H
X-Robots-Tag:noindex
X-PUBLISHED-TTL:PT1H
BEGIN:VTIMEZONE
TZID:Europe/Paris
BEGIN:DAYLIGHT
TZOFFSETFROM:+0100
TZOFFSETTO:+0200
TZNAME:CEST
DTSTART:20250330T010000
END:DAYLIGHT
BEGIN:STANDARD
TZOFFSETFROM:+0200
TZOFFSETTO:+0100
TZNAME:CET
DTSTART:20251026T010000
END:STANDARD
END:VTIMEZONE
BEGIN:VEVENT
DTSTART;TZID=Europe/Paris:20251022T140000
DTEND;TZID=Europe/Paris:20251022T230000
DTSTAMP:20260422T013625
CREATED:20250304T104943Z
LAST-MODIFIED:20250304T214117Z
UID:28926-1761141600-1761174000@remuemeningesaneres.org
SUMMARY:Fête de la Pomme   &   Concert : "Mr.&Mme LoOp"
DESCRIPTION:Dès le tout début d’après-midi ! Venez nombreux et nombreuse participer au pressage et à la mise en bouteille du Jus de Pomme de ce milieu d’automne tant fructueux ! \n  \nQuelques godets d’un jus aussi fraîchement pressé vous remettra tout de suite d’aplomb ! \n  \n\n  \n \n  \nS’en suivra en début de soirée\, le concert de Mr. et Mme. Loop ! \n  \n\n\n\nDuo décalé looper beat-box/machines\, guitare-chants. Un brin excentrique et drôle.. Du reggae steady/ska \, rabbadub style dub hip-hop\, à la Cumbia jusqu’à la Dance Muzik….pour le plus grand bonheur des petits et des grands! \nIls sont deux mais à l’aide de leur looper\, ils font un sacré tintouin!! Un beat box\, un shaker\, une rythmique\, une basse\, des chœurs\, une boite à thé\, un guejo… et en avant la musique!!! \nMais Mr et Mme LoOps c’est aussi des prod home studio\, cliquez pour les découvrir 🙂 \n\n\n\n\nBoissons\, repas et spectacle\nsont en participation libre et consciente\n \nAide bienvenue en cuisine !\n \n\n​  ¡ Nous vous demandons de ne pas amener nos amies les bêtes dans l’enceinte du Café du Village\, même tenues en laisse\, afin d’assurer le bon déroulement du repas et du spectacle !   
URL:https://remuemeningesaneres.org/event/fete-de-la-pomme-6/
LOCATION:Café du village\, Grande rue\, Aneres\, 65150\, France
CATEGORIES:Les 22 d'Anères
ATTACH;FMTTYPE=image/jpeg:https://remuemeningesaneres.org/wp-content/uploads/2025/03/841px-pressoir-a-pommes-artisanal.jpg
END:VEVENT
END:VCALENDAR