BEGIN:VCALENDAR
VERSION:2.0
PRODID:-//Remue Méninges - ECPv6.0.13//NONSGML v1.0//EN
CALSCALE:GREGORIAN
METHOD:PUBLISH
X-ORIGINAL-URL:https://remuemeningesaneres.org
X-WR-CALDESC:évènements pour Remue Méninges
REFRESH-INTERVAL;VALUE=DURATION:PT1H
X-Robots-Tag:noindex
X-PUBLISHED-TTL:PT1H
BEGIN:VTIMEZONE
TZID:Europe/Paris
BEGIN:DAYLIGHT
TZOFFSETFROM:+0100
TZOFFSETTO:+0200
TZNAME:CEST
DTSTART:20250330T010000
END:DAYLIGHT
BEGIN:STANDARD
TZOFFSETFROM:+0200
TZOFFSETTO:+0100
TZNAME:CET
DTSTART:20251026T010000
END:STANDARD
END:VTIMEZONE
BEGIN:VEVENT
DTSTART;TZID=Europe/Paris:20251222T160000
DTEND;TZID=Europe/Paris:20251222T200000
DTSTAMP:20260422T075317
CREATED:20250304T111934Z
LAST-MODIFIED:20250304T112042Z
UID:28935-1766419200-1766433600@remuemeningesaneres.org
SUMMARY:Noël des enfants !   &   Conte musical :  Anna cherche son chat
DESCRIPTION:Dans l’après midi\, quand les ventres commencent à gargouiller et que sonne l’heure du goûter\, une collection est offerte aux enfants jeunes et moins jeunes\, ainsi qu’un spectacle musical ! \n  \n\n« Anna cherche son chat » \n\nUn chat qui disparaît le jour d’un déménagement\, des cartons en pagaille\, et la fâcheuse habitude qu’a notre narratrice-musicienne de raconter des histoires… Tout cela augure d’un voyage riche en émotions et en musique sur les traces du félin voyageur. Chaque chanson porte les sonorités d’une langue étrangère\, tandis que les objets anodins de la vie quotidienne\, une fois sortis de leur cartons\, épousent les formes familières d’une faune et d’une flore qui prennent vie sous nos yeux\, et apprennent à Anna quelques leçons au cours de sa quête imaginaire . . . \nPar ANNA KESSLER \n  \n\nBoissons\, repas et spectacle\nsont en participation libre et consciente\n \nAide bienvenue en cuisine !\n \n\n​  ¡ Nous vous demandons de ne pas amener nos amies les bêtes dans l’enceinte du Café du Village\, même tenues en laisse\, afin d’assurer le bon déroulement du repas et du spectacle !   
URL:https://remuemeningesaneres.org/event/noel-des-enfants-nbps-conte-musical-anna-cherche-son-chat/
LOCATION:Café du village\, Grande rue\, Aneres\, 65150\, France
ATTACH;FMTTYPE=image/jpeg:https://remuemeningesaneres.org/wp-content/uploads/2025/03/le-noel-1897-142ec9-1024.jpg
END:VEVENT
END:VCALENDAR