BEGIN:VCALENDAR
VERSION:2.0
PRODID:-//Remue Méninges - ECPv6.0.13//NONSGML v1.0//EN
CALSCALE:GREGORIAN
METHOD:PUBLISH
X-WR-CALNAME:Remue Méninges
X-ORIGINAL-URL:https://remuemeningesaneres.org
X-WR-CALDESC:évènements pour Remue Méninges
REFRESH-INTERVAL;VALUE=DURATION:PT1H
X-Robots-Tag:noindex
X-PUBLISHED-TTL:PT1H
BEGIN:VTIMEZONE
TZID:Europe/Paris
BEGIN:DAYLIGHT
TZOFFSETFROM:+0100
TZOFFSETTO:+0200
TZNAME:CEST
DTSTART:20260329T010000
END:DAYLIGHT
BEGIN:STANDARD
TZOFFSETFROM:+0200
TZOFFSETTO:+0100
TZNAME:CET
DTSTART:20261025T010000
END:STANDARD
END:VTIMEZONE
BEGIN:VEVENT
DTSTART;TZID=Europe/Paris:20260322T093000
DTEND;TZID=Europe/Paris:20260322T230000
DTSTAMP:20260421T060808
CREATED:20250302T174412Z
LAST-MODIFIED:20260210T163830Z
UID:28819-1774171800-1774220400@remuemeningesaneres.org
SUMMARY:Le Print'Anères 2026 ~ Programme en cours de conception
DESCRIPTION:Grainothèque à disposition (participation libre)\nTroc de plantes toute la journée ! \n\nProgramme (en attendant le détail ;’)\n \n9h30 -> Accueil \nConférences\, Ateliers\, Balades\, Contes\, . . .\n \n Et bien d’autres surprises à venir !\n\n12h00 -> Repas thématique\n\n19h00 -> Apéro\n\n20h00 -> Repas thématique\n\n\n21h00 -> Spectacle deeeeeee 😀 \n\n\n_______________ \nBalades\, conférences\, contes\, ateliers\, apéro\, boissons\, repas et spectacle\nen participation libre mais nécessaire \nAide bienvenue à la cuisine ! \n​  ! Nous vous demandons de ne pas amener au Café nos amis à quatre pattes (chiens notamment)\, même tenus en laisse\, afin d’assurer le bon déroulement des évènements !   
URL:https://remuemeningesaneres.org/event/printaneres-2025-chansons-contees-aux-portes-du-merveilleux/
LOCATION:Café du village\, Grande rue\, Aneres\, 65150\, France
CATEGORIES:Les 22 d'Anères
ATTACH;FMTTYPE=image/jpeg:https://remuemeningesaneres.org/wp-content/uploads/2025/03/img-20250302-175708.jpg
END:VEVENT
END:VCALENDAR